BEGIN:VCALENDAR
VERSION:2.0
PRODID:-//Field of Dreams Car Show - ECPv6.15.18//NONSGML v1.0//EN
CALSCALE:GREGORIAN
METHOD:PUBLISH
X-WR-CALNAME:Field of Dreams Car Show
X-ORIGINAL-URL:https://fieldofdreamscarshow.com
X-WR-CALDESC:Events for Field of Dreams Car Show
REFRESH-INTERVAL;VALUE=DURATION:PT1H
X-Robots-Tag:noindex
X-PUBLISHED-TTL:PT1H
BEGIN:VTIMEZONE
TZID:America/New_York
BEGIN:DAYLIGHT
TZOFFSETFROM:-0500
TZOFFSETTO:-0400
TZNAME:EDT
DTSTART:20250309T070000
END:DAYLIGHT
BEGIN:STANDARD
TZOFFSETFROM:-0400
TZOFFSETTO:-0500
TZNAME:EST
DTSTART:20251102T060000
END:STANDARD
BEGIN:DAYLIGHT
TZOFFSETFROM:-0500
TZOFFSETTO:-0400
TZNAME:EDT
DTSTART:20260308T070000
END:DAYLIGHT
BEGIN:STANDARD
TZOFFSETFROM:-0400
TZOFFSETTO:-0500
TZNAME:EST
DTSTART:20261101T060000
END:STANDARD
BEGIN:DAYLIGHT
TZOFFSETFROM:-0500
TZOFFSETTO:-0400
TZNAME:EDT
DTSTART:20270314T070000
END:DAYLIGHT
BEGIN:STANDARD
TZOFFSETFROM:-0400
TZOFFSETTO:-0500
TZNAME:EST
DTSTART:20271107T060000
END:STANDARD
END:VTIMEZONE
BEGIN:VTIMEZONE
TZID:UTC
BEGIN:STANDARD
TZOFFSETFROM:+0000
TZOFFSETTO:+0000
TZNAME:UTC
DTSTART:20220101T000000
END:STANDARD
END:VTIMEZONE
BEGIN:VEVENT
DTSTART;VALUE=DATE:20261121
DTEND;VALUE=DATE:20261123
DTSTAMP:20260421T130715
CREATED:20170419T160948Z
LAST-MODIFIED:20260105T165542Z
UID:166-1795219200-1795391999@fieldofdreamscarshow.com
SUMMARY:Events Calendar
DESCRIPTION:Annual Field of Dreams Car Show 2026\n \nField of Dreams Car Show\nSaturday & Sunday\, November 21st & 22nd\, 2026\nAll proceeds to benefit Shriners Hospitals for Children\nSpectator entrance fee $5.00
URL:https://fieldofdreamscarshow.com/event/fields-of-dreams-car-show/
LOCATION:Field of Dreams Car Show\, 5360 Lockhart Rd\, Brooksville\, FL\, 34602\, United States
CATEGORIES:Car Shows
ORGANIZER;CN="John Romanyak":MAILTO:fieldofdreamscarshow@gmail.com
END:VEVENT
BEGIN:VEVENT
DTSTART;TZID=UTC:20230101T080000
DTEND;TZID=UTC:20231101T160000
DTSTAMP:20260421T130715
CREATED:20180310T033643Z
LAST-MODIFIED:20230206T142140Z
UID:530-1672560000-1698854400@fieldofdreamscarshow.com
SUMMARY:Vendor registration dates
DESCRIPTION:Vendor registration begins January 1st of every year.  Discount deadline rate is November 1st\, of every year.
URL:https://fieldofdreamscarshow.com/event/vendor-registration-dates/
LOCATION:Field of Dreams Car Show\, 5360 Lockhart Rd\, Brooksville\, FL\, 34602\, United States
CATEGORIES:Car Shows,vendor
ATTACH;FMTTYPE=image/jpeg:https://fieldofdreamscarshow.com/wp-content/uploads/2018/03/Artisan.jpg
ORGANIZER;CN="John Romanyak":MAILTO:fieldofdreamscarshow@gmail.com
END:VEVENT
END:VCALENDAR